BEGIN:VCALENDAR
VERSION:2.0
PRODID:-//IP.Board Calendar 4.6.8//EN
METHOD:PUBLISH
CALSCALE:GREGORIAN
X-WR-CALNAME:Community Calendar
BEGIN:VTIMEZONE
TZID:Europe/London
TZURL:http://tzurl.org/zoneinfo/Europe/London
X-LIC-LOCATION:Europe/London
BEGIN:DAYLIGHT
TZOFFSETFROM:+0000
TZOFFSETTO:+0100
TZNAME:BST
DTSTART:20050327T020000Z
RRULE:FREQ=YEARLY;BYMONTH=3;BYDAY=-1SU
END:DAYLIGHT
BEGIN:STANDARD
TZOFFSETFROM:+0100
TZOFFSETTO:+0000
TZNAME:GMT
DTSTART:20051030T020000Z
RRULE:FREQ=YEARLY;BYMONTH=10;BYDAY=-1SU
END:STANDARD
END:VTIMEZONE
BEGIN:VEVENT
SUMMARY:Purim
DTSTAMP:20050325T070001Z
SEQUENCE:1
UID:240-1-c817ba1cda30a89680fe08c2ba52cab1@ulc.net
ORGANIZER;CN="Rakehel":forum@ulc.net
DESCRIPTION:\nBegins at sundown on the day before. A Jewish celebration 
	of the deliverance of the Jewish minority in Persia from genocide. Giving 
	to the poor\, sharing food with friends\, and merrymaking mark the observa
	nce.\n
DTSTART;VALUE=DATE:20050325
END:VEVENT
END:VCALENDAR
